BEGIN:VCALENDAR
VERSION:2.0
PRODID:-//Rif - ECPv6.15.18//NONSGML v1.0//EN
CALSCALE:GREGORIAN
METHOD:PUBLISH
X-ORIGINAL-URL:https://rif.be/en
X-WR-CALDESC:Events for Rif
REFRESH-INTERVAL;VALUE=DURATION:PT1H
X-Robots-Tag:noindex
X-PUBLISHED-TTL:PT1H
BEGIN:VTIMEZONE
TZID:Europe/Brussels
BEGIN:DAYLIGHT
TZOFFSETFROM:+0100
TZOFFSETTO:+0200
TZNAME:CEST
DTSTART:20250330T010000
END:DAYLIGHT
BEGIN:STANDARD
TZOFFSETFROM:+0200
TZOFFSETTO:+0100
TZNAME:CET
DTSTART:20251026T010000
END:STANDARD
BEGIN:DAYLIGHT
TZOFFSETFROM:+0100
TZOFFSETTO:+0200
TZNAME:CEST
DTSTART:20260329T010000
END:DAYLIGHT
BEGIN:STANDARD
TZOFFSETFROM:+0200
TZOFFSETTO:+0100
TZNAME:CET
DTSTART:20261025T010000
END:STANDARD
BEGIN:DAYLIGHT
TZOFFSETFROM:+0100
TZOFFSETTO:+0200
TZNAME:CEST
DTSTART:20270328T010000
END:DAYLIGHT
BEGIN:STANDARD
TZOFFSETFROM:+0200
TZOFFSETTO:+0100
TZNAME:CET
DTSTART:20271031T010000
END:STANDARD
END:VTIMEZONE
BEGIN:VEVENT
DTSTART;VALUE=DATE:20260130
DTEND;VALUE=DATE:20260131
DTSTAMP:20260418T074250
CREATED:20251107T140238Z
LAST-MODIFIED:20260106T161035Z
UID:10000050-1769731200-1769817599@rif.be
SUMMARY:Eight (or maybe nine) universal truths about human nature
DESCRIPTION:Rif’s Open Studio = unieke kans om een work-in-progress van onze residenten te ontdekken in een informele setting. De toegang is gratis en je hoeft niet te reserveren.\nWelkom op de open studio van de nieuwe muziektheatervoorstelling van Lotte Boonstra \n  \nEight (or maybe nine) universal truths about human nature \nEight (or maybe nine) universal truths about human nature is een collectie sculpturale tableaus: verstilde beelden waarin mensen zich verhouden tot materie. \nDe reeks absurdistische en humoristische sculpturen bevraagt hoe de mens graaft\, delft en bouwt\, steeds dieper vastzittend in zijn eigen mensenwereld. Elk beeld is een metafoor\, een abstractie van wat het betekent om mens te zijn. \nEight (or maybe nine) universal truths about human nature heeft geen vaststaande vorm. De beelden worden in verschillende samenstellingen uitgevoerd door een bonte verzameling mensen. Voor elk beeld wordt een eigen geluid gecomponeerd. Tijdens haar residentie bij RIF werkt Lotte samen met geluidsontwerper Timon Persoon aan de composities bij de beelden. Daarnaast onderzoeken zij ook de rol van livemuziek binnen de performance. \nDe volledige collectie beelden gaat op 13 mei 2026 in première tijdens Beyond the Black Box in Monty\, Antwerpen. \n 
URL:https://rif.be/en/event/universal-truths-about-human-nature/
CATEGORIES:podium
ATTACH;FMTTYPE=image/jpeg:https://rif.be/wp-content/uploads/2025/11/pressZVDE5424-www.jpg
END:VEVENT
END:VCALENDAR